BEGIN:VCALENDAR
VERSION:2.0
CALSCALE:GREGORIAN
BEGIN:VEVENT
SUMMARY:Gentle Yoga
DTSTART;TZID=Europe/Rome:20250115T160000
DTEND;TZID=Europe/Rome:20250115T170000
LOCATION:Kutir
DESCRIPTION: necessaria la tessera associativa. Minimo 3 partecipanti. Lezione di 1H.
Lezione pensata per tutte le età, con un&#039;attenzione particolare alle esigenze degli anziani. Attraverso movimenti dolci e accessibili, la pratica mira a mantenere il corpo attivo, migliorare la flessibilità e sostenere il benessere generale. Ogni postura viene proposta con cura, rispettando i limiti individuali e offrendo varianti per adattarsi a condizioni fisiche diverse o a eventuali infortuni.
Un’atmosfera calma e accogliente guiderà ogni respiro e movimento, favorendo il rilassamento e il ritrovamento di un equilibrio tra corpo e mente. Perfetta per chi desidera prendersi cura di sé con attenzione e premura. Vengono usati supporti quali mattoncini, bolster, sedie, cinghie
STATUS:CONFIRMED
SEQUENCE:0
END:VEVENT
END:VCALENDAR