BEGIN:VCALENDAR
VERSION:2.0
CALSCALE:GREGORIAN
BEGIN:VEVENT
SUMMARY:Vinyasa
DTSTART;TZID=Europe/Rome:20250205T171500
DTEND;TZID=Europe/Rome:20250205T181500
LOCATION:Kutir
DESCRIPTION: necessaria la tessera associativa
La lezione si svolge con un minimo di 3 partecipanti
STATUS:CONFIRMED
SEQUENCE:0
END:VEVENT
END:VCALENDAR