BEGIN:VCALENDAR
VERSION:2.0
CALSCALE:GREGORIAN
BEGIN:VEVENT
SUMMARY:5-Jarig Jubileum KYND•Z  Yin - Klankreis
DTSTART;TZID=Europe/Amsterdam:20250514T193000
DTEND;TZID=Europe/Amsterdam:20250514T213000
LOCATION:Atelier Blok T
DESCRIPTION: Samen met jullie wil ik vieren dat KYND•Z dit jaar 5 jaar bestaat!

Locatie: Atelier Blok T

Deze speciale avond is een cadeautje van mij voor jou! Ik wil jullie verrassen met een prachtige klankreis verzorgd door Nanneke Piek van Studio Duende Tilburg. In de link hieronder vind je meer info over Nanneke.

19:30 - 19:45    Inloop 
19:50 - 21:00    Yin - Klankreis
21:05 -  21:30    Thee met lekkers 

Wil je erbij zijn, meld je dan vóór 15 maart aan!
STATUS:CONFIRMED
SEQUENCE:0
END:VEVENT
END:VCALENDAR