BEGIN:VCALENDAR
VERSION:2.0
CALSCALE:GREGORIAN
BEGIN:VEVENT
SUMMARY:Easy Flow Yoga
DTSTART;TZID=Europe/Amsterdam:20250520T093000
DTEND;TZID=Europe/Amsterdam:20250520T103000
LOCATION:Atelier Blok T
DESCRIPTION: Een yogales waarbij veel aandacht is voor ontspanning, opbouwen van kracht, vergroten van balans en adem.

Tijdens de les wisselen we af met het langer in de houding blijven en het bewegen in flow op het ritme van jouw ademhaling. We eindigen deze les regelmatig met een yin houding en eindontspanning.

Vanaf 9:15 ben je van harte welkom in het Atelier, zo kun je rustig een plekje uitzoeken
STATUS:CONFIRMED
SEQUENCE:0
END:VEVENT
END:VCALENDAR