BEGIN:VCALENDAR
VERSION:2.0
CALSCALE:GREGORIAN
BEGIN:VEVENT
SUMMARY:Yoga Dynamique ☀️🌴
DTSTART;TZID=Europe/Paris:20250722T181500
DTEND;TZID=Europe/Paris:20250722T191500
LOCATION:La Maison du Yoga &amp; de la Sophrologie
DESCRIPTION: Des salutations au soleil et des postures en flow
Un yoga en mouvement au rythme de vos inspirations et de vos expirations,
engageant, rythmé, qui stimule le rythme cardiaque.
STATUS:CONFIRMED
SEQUENCE:0
END:VEVENT
END:VCALENDAR