BEGIN:VCALENDAR
VERSION:2.0
CALSCALE:GREGORIAN
BEGIN:VEVENT
SUMMARY:Pratique partagée Ashtanga Vinyasa yoga
DTSTART;TZID=Europe/Paris:20250512T090000
DTEND;TZID=Europe/Paris:20250512T101500
LOCATION:Là Yoga Studio
DESCRIPTION: Je ne serai pas présente sur ce cours mais la salle est ouverte pour une pratique partagée.

L&amp;#039;Ashtanga est un yoga dynamique et fluide. Il repose sur une exécution codifiée d&amp;#039;une série de postures et la synchronisation de la respiration au mouvement. Ce cours s&amp;#039;adresse à celles et ceux qui souhaitent redonner énergie, structure et force au corps. Arrêtez d&amp;#039;avoir peur de l&amp;#039;ashtanga, c&amp;#039;est un yoga merveilleux, fait pour tous, c&amp;#039;est juste une question d&amp;#039;approche !!! 
Ce cours est tous niveaux, nous effectuons la première série progressivement, à des rythmes différents, avec une compréhension des ajustements, des alignements et des possibilités qu&amp;#039;offrent chaque asana. J&amp;#039;aime particulièrement travailler ce type de yoga en l&amp;#039;interpretant et en l&amp;#039;adaptant de manière originale. Ici pas de systématisme, chaque pratique est différente, créative et bénéfique.
Venez, vous allez l&amp;#039;adorer, ma passion est communicative 😁😘
STATUS:CONFIRMED
SEQUENCE:0
END:VEVENT
END:VCALENDAR