BEGIN:VCALENDAR
VERSION:2.0
CALSCALE:GREGORIAN
BEGIN:VEVENT
SUMMARY:Ashtanga Vinyasa yoga ( Caro)
DTSTART;TZID=Europe/Paris:20250623T090000
DTEND;TZID=Europe/Paris:20250623T101500
LOCATION:Là Yoga Studio
DESCRIPTION: L&#039;Ashtanga est un yoga dynamique et fluide. Il repose sur une exécution codifiée d&#039;une série de postures et la synchronisation de la respiration au mouvement. Ce cours s&#039;adresse à celles et ceux qui souhaitent redonner énergie, structure et force au corps. Arrêtez d&#039;avoir peur de l&#039;ashtanga, c&#039;est un yoga merveilleux, fait pour tous, c&#039;est juste une question d&#039;approche !!! 
Ce cours est tous niveaux, nous effectuons la première série progressivement, à des rythmes différents, avec une compréhension des ajustements, des alignements et des possibilités qu&#039;offrent chaque asana. J&#039;aime particulièrement travailler ce type de yoga en l&#039;interpretant et en l&#039;adaptant de manière originale. Ici pas de systématisme, chaque pratique est différente, créative et bénéfique.
Venez, vous allez l&#039;adorer, ma passion est communicative 😁😘
STATUS:CONFIRMED
SEQUENCE:0
END:VEVENT
END:VCALENDAR