BEGIN:VCALENDAR
VERSION:2.0
CALSCALE:GREGORIAN
BEGIN:VEVENT
SUMMARY:Slow flow et brunch sur la plage du Rouet
DTSTART;TZID=Europe/Paris:20250615T073000
DTEND;TZID=Europe/Paris:20250615T083000
LOCATION:Plage du Rouet
DESCRIPTION: https://www.helloasso.com/associations/kariyoga/evenements/yoga-masterclass-mika-de-brito-dimanche-2-juin-2
STATUS:CONFIRMED
SEQUENCE:0
END:VEVENT
END:VCALENDAR