BEGIN:VCALENDAR
VERSION:2.0
CALSCALE:GREGORIAN
BEGIN:VEVENT
SUMMARY:Mysore &amp; Brunch
DTSTART;TZID=Europe/Paris:20250629T083000
DTEND;TZID=Europe/Paris:20250629T100000
LOCATION:Là Yoga Studio
DESCRIPTION: Ce sera le dernier mysore de l&amp;#039;année, nous pratiquons en salle ou dehors en fonction de la météo et du nombre d&amp;#039;élèves, la pratique puissante profonde et joyeuse se clôturera par un brunch partagé, chacun amène ce qu&amp;#039;il veut 🙏♥️
STATUS:CONFIRMED
SEQUENCE:0
END:VEVENT
END:VCALENDAR