BEGIN:VCALENDAR
VERSION:2.0
CALSCALE:GREGORIAN
BEGIN:VEVENT
SUMMARY:Pilates (Caro)
DTSTART;TZID=Europe/Paris:20250626T183000
DTEND;TZID=Europe/Paris:20250626T194500
LOCATION:Là Yoga Studio
DESCRIPTION: L’une des différences majeures entre le yoga et le pilates réside dans les objectifs de ces deux activités physiques. Le pilates est une discipline ayant pour but de développer les muscles profonds, fondateurs de la posture, et d’améliorer celle-ci, et l’assouplissement articulaire. C’est une méthode de conditionnement physique (issue de la danse et du yoga), qui peut même être pratiquée pour de la rééducation. On insiste particulièrement sur les exercices pour le bas du tronc (muscles abdominaux et fessiers et bas du dos), et la coordination.

« Après 10 séances, vous sentez la différence. Après 20 séances, vous voyez la différence. Et après 30 séances, vous avez un corps tout neuf ! » une promesse tenue par Josef Pilates, et je vous promets que c&#039;est vrai !
- Plus de mal de dos, le ventre se raffermit, le corps devient fort et souple.
- Meilleure posture et contrôle des gestes.
- Assouplissement des muscles moteurs (muscles superficiels ex : les ischio-jambiers -arrière des cuisses, le psoas -fléchisseurs de hanche...).
- Amélioration de l’amplitude articulaire, de la force, de l’endurance et de la puissance musculaire.
- Massage des organes internes.
- Amélioration de la circulation sanguine.
- Diminution des risques de blessures ou de déséquilibre musculaire.
- Développement de la musculature de façon harmonieuse.
Bref, tout ça dans la bonne humeur et en musique 👍
STATUS:CONFIRMED
SEQUENCE:0
END:VEVENT
END:VCALENDAR