BEGIN:VCALENDAR
VERSION:2.0
CALSCALE:GREGORIAN
BEGIN:VEVENT
SUMMARY:Yoga prénatal (Agnès)
DTSTART;TZID=Europe/Paris:20250624T170000
DTEND;TZID=Europe/Paris:20250624T181500
LOCATION:Là Yoga Studio
DESCRIPTION: Découvrez le yoga prénatal avec Agnès.
Le yoga prénatal est une méthode de yoga conçue spécialement pour les femmes enceintes, qui permet de maintenir une bonne condition physique et mentale pendant la grossesse. Agnès vous accompagne avec douceur et professionnalisme.
Cette pratique consiste en des exercices doux, des postures et des techniques de respiration qui sont adaptés aux besoins de la femme enceinte. Le yoga prénatal est une pratique sûre et efficace pour maintenir une bonne santé pendant la grossesse et se préparer à l’accouchement.
STATUS:CONFIRMED
SEQUENCE:0
END:VEVENT
END:VCALENDAR