BEGIN:VCALENDAR
VERSION:2.0
CALSCALE:GREGORIAN
BEGIN:VEVENT
SUMMARY:Feldenkrais ( Martine ): inscription uniquement par téléphone au 06 16 86 68 11
DTSTART;TZID=Europe/Paris:20250625T143000
DTEND;TZID=Europe/Paris:20250625T151500
LOCATION:Là Yoga Studio
DESCRIPTION: 
STATUS:CONFIRMED
SEQUENCE:0
END:VEVENT
END:VCALENDAR