BEGIN:VCALENDAR
VERSION:2.0
CALSCALE:GREGORIAN
BEGIN:VEVENT
SUMMARY:Les 108 salutations soleil, plage de Zanzibar ☀️
DTSTART;TZID=Europe/Paris:20260321T083000
DTEND;TZID=Europe/Paris:20260321T103000
LOCATION:Salle lombardi, ou  plage du zanzibar si ☀️
DESCRIPTION: La pratique des 108 salutations au soleil est un rituel que nous pratiquons quatre fois par an aux changements de saison.
Ce samedi nous accueillons le printemps avec ce rituel des 108 salutations, loin d&#039;être une performance, nous méditons en mouvement sur ce que nous laissons et ce que nous accueillons. 
C&#039;est pratique et réservé au yogi ayant déjà une bonne connaissance de la salutation A et du rythme respiratoire.
On se retrouve sur la plage du Zanzibar (en face du camping Lou soleil), à 8h30 🙏😁
A demain
STATUS:CONFIRMED
SEQUENCE:0
END:VEVENT
END:VCALENDAR