BEGIN:VCALENDAR
VERSION:2.0
CALSCALE:GREGORIAN
BEGIN:VEVENT
SUMMARY:ATELIER BIEN-ÊTRE N°27: &quot;Voyage au tambour et bain sonore&quot; avec Isabelle Dumontet
DTSTART;TZID=Europe/Paris:20250712T150000
DTEND;TZID=Europe/Paris:20250712T183000
LOCATION:
DESCRIPTION: Atelier de 3h30 animé par Isabelle Dumontet, énergéticienne et sonothérapeute, qui proposera un puissant voyage au tambour chamanique de 30mn, puis un bain sonore relaxant d&#039;1h30.
Attention, il existe certaines contre-indications pour cet atelier. Veuillez vous rapprocher de La Cabane Yoga Studio pour les connaître.
STATUS:CONFIRMED
SEQUENCE:0
END:VEVENT
END:VCALENDAR