BEGIN:VCALENDAR
VERSION:2.0
CALSCALE:GREGORIAN
BEGIN:VEVENT
SUMMARY:Slow Flow (Español) - ONLINE
DTSTART;TZID=Europe/Zurich:20221214T140000
DTEND;TZID=Europe/Zurich:20221214T151500
LOCATION:online
DESCRIPTION: 
STATUS:CONFIRMED
SEQUENCE:0
END:VEVENT
END:VCALENDAR