BEGIN:VCALENDAR
VERSION:2.0
CALSCALE:GREGORIAN
BEGIN:VEVENT
SUMMARY:Heal Together: Small Group Movement for Moms
DTSTART;TZID=America/Chicago:20231109T124000
DTEND;TZID=America/Chicago:20231109T134000
LOCATION:Creation Station Dallas (6434 E Mockingbird Ln Suite 107, Dallas, TX 75214)
DESCRIPTION: Learn exercises to help heal and strengthen your body after having a baby, no matter how long ago you had a baby, for issues like diastasis, pelvic floor weakness, pain, and more. Classes will be recorded so you can review or watch if you miss. Classes are nonrefundable due to limited size and recordings availablle.
STATUS:CONFIRMED
SEQUENCE:0
END:VEVENT
END:VCALENDAR