BEGIN:VCALENDAR
VERSION:2.0
CALSCALE:GREGORIAN
BEGIN:VEVENT
SUMMARY:cours Vinyasa
DTSTART;TZID=Europe/Zurich:20240529T180000
DTEND;TZID=Europe/Zurich:20240529T190000
LOCATION:Suisse, Lieu
DESCRIPTION: 60 minutes
STATUS:CONFIRMED
SEQUENCE:0
END:VEVENT
END:VCALENDAR