BEGIN:VCALENDAR
VERSION:2.0
CALSCALE:GREGORIAN
BEGIN:VEVENT
SUMMARY:Vinyasa à la bougie - 60 minutes
DTSTART;TZID=Europe/Paris:20260204T180000
DTEND;TZID=Europe/Paris:20260204T190000
LOCATION:🌊 Studio The Flow - 4 rue Louis de Romain
DESCRIPTION: Yoga dynamique 60 min
Politique d&#039;annulation: toute séance non honorée ou annulée dans un délai inférieur à 24h est due.
STATUS:CONFIRMED
SEQUENCE:0
END:VEVENT
END:VCALENDAR