BEGIN:VCALENDAR
VERSION:2.0
CALSCALE:GREGORIAN
BEGIN:VEVENT
SUMMARY:Yoga Sculpt
DTSTART;TZID=Europe/Paris:20251218T184500
DTEND;TZID=Europe/Paris:20251218T194500
LOCATION:
DESCRIPTION: La plus intense de nos pratiques qui combine Yoga, renforcement et cardio.
On tonifie, on sculpte, on transpire — avec ou sans poids aux poignets et chevilles, selon ton envie.
On bouge avec puissance, mais toujours avec présence.
Un cours pour réveiller votre force, stimuler ton feu intérieur, et vous reconnecter à votre énergie.​​
Intensité : Soutenue
Bienfaits : Vitalité – Tonicité – Endurance
STATUS:CONFIRMED
SEQUENCE:0
END:VEVENT
END:VCALENDAR