BEGIN:VCALENDAR
VERSION:2.0
CALSCALE:GREGORIAN
BEGIN:VEVENT
SUMMARY:Yoga aérien
DTSTART;TZID=Europe/Paris:20260111T153000
DTEND;TZID=Europe/Paris:20260111T163000
LOCATION:
DESCRIPTION: Un flow dans les hammocks où le mouvement aura sa place. Optionnel :  inversion douce à la fin.
Débutants bienvenus
STATUS:CONFIRMED
SEQUENCE:0
END:VEVENT
END:VCALENDAR