BEGIN:VCALENDAR
VERSION:2.0
CALSCALE:GREGORIAN
BEGIN:VEVENT
SUMMARY:Flow aérien
DTSTART;TZID=Europe/Paris:20260412T150000
DTEND;TZID=Europe/Paris:20260412T160000
LOCATION:Shala
DESCRIPTION: Un flow dans les hammocks/tissus où le mouvement aura sa place. Optionnel : inversion à la fin dans les hammocks.
Débutants bienvenus
STATUS:CONFIRMED
SEQUENCE:0
END:VEVENT
END:VCALENDAR