BEGIN:VCALENDAR
VERSION:2.0
CALSCALE:GREGORIAN
BEGIN:VEVENT
SUMMARY:ROCKET YOGA
DTSTART;TZID=Europe/Madrid:20251030T190000
DTEND;TZID=Europe/Madrid:20251030T203000
LOCATION:Le Flow Yoga Shala
DESCRIPTION: Una clase dinámica y fluida basada en la unión del movimiento y la respiración a lo largo de una secuencia fija de posturas entrelazadas entre sí. Aprenderás nuevas posturas, variaciones y transiciones que te llevarán a despertar tu potencial interior. Esta clase es exigente físicamente por lo que hay que tener una buena condición física.

* Intensidad Fuerte - Todos los niveles (con buena condición física)
STATUS:CONFIRMED
SEQUENCE:0
END:VEVENT
END:VCALENDAR