BEGIN:VCALENDAR
VERSION:2.0
CALSCALE:GREGORIAN
BEGIN:VEVENT
SUMMARY:Tapis niveau 2/3
DTSTART;TZID=Europe/Paris:20250522T123000
DTEND;TZID=Europe/Paris:20250522T133000
LOCATION:Studio 2 place des Arts
DESCRIPTION: Cours collectif Pilates sur tapis niveau 2 à 3
STATUS:CONFIRMED
SEQUENCE:0
END:VEVENT
END:VCALENDAR