BEGIN:VCALENDAR
VERSION:2.0
CALSCALE:GREGORIAN
BEGIN:VEVENT
SUMMARY:Atelier Pilates sur Machines 1ere partie
DTSTART;TZID=Europe/Paris:20241130T090000
DTEND;TZID=Europe/Paris:20241130T101500
LOCATION:Leman Studio Pilates
DESCRIPTION: Niveau découverte et débutant 
Inscription sur les 2 parties
STATUS:CONFIRMED
SEQUENCE:0
END:VEVENT
END:VCALENDAR