BEGIN:VCALENDAR
VERSION:2.0
CALSCALE:GREGORIAN
BEGIN:VEVENT
SUMMARY:Rocket Yoga- Martes
DTSTART;TZID=Europe/Madrid:20240723T200000
DTEND;TZID=Europe/Madrid:20240723T213000
LOCATION:
DESCRIPTION: El Rocket yoga es un estilo novedoso que proviene del Ashtanga tradicional. Es una de las prácticas más activas y energéticas. Y la principal diferencia de esta clase con respecto a las demás es la variedad y la no rigidez en cuanto a las asanas que se proponen. 
 
Es probable que se propongan posturas más retadoras antes que en otras variedades más clásicas. Con las clases de rocket yoga ganarás vitalidad, mejorarás tu concentración y trabajarás la fuerza y la flexibilidad de tu cuerpo.
STATUS:CONFIRMED
SEQUENCE:0
END:VEVENT
END:VCALENDAR