BEGIN:VCALENDAR
VERSION:2.0
CALSCALE:GREGORIAN
BEGIN:VEVENT
SUMMARY:Iniciación al Yoga Aéreo Miércoles
DTSTART;TZID=Europe/Madrid:20240626T174500
DTEND;TZID=Europe/Madrid:20240626T185500
LOCATION:Lemon Yoga
DESCRIPTION: 
STATUS:CONFIRMED
SEQUENCE:0
END:VEVENT
END:VCALENDAR