BEGIN:VCALENDAR
VERSION:2.0
CALSCALE:GREGORIAN
BEGIN:VEVENT
SUMMARY:cours collectif Shantyoga
DTSTART;TZID=Europe/Paris:20240905T183000
DTEND;TZID=Europe/Paris:20240905T194500
LOCATION:39 rue des vignes de beauregard, la charmault 45700 MONTCRESSON
DESCRIPTION: Les cours de l&#039;été sont maintenus à partir de 6 personnes. Inscription au plus tard le mardi pour le jeudi.
Ce cours a lieu à mon domicile en intérieur ou en extérieur. Vous verrez le panneau &quot;Chantoiseau&quot; et vous pouvez vous garer dans le cour en vous serrant le plus possible pour qu&#039;il y ait de la place pour tout le monde ;-)
STATUS:CONFIRMED
SEQUENCE:0
END:VEVENT
END:VCALENDAR