BEGIN:VCALENDAR
VERSION:2.0
CALSCALE:GREGORIAN
BEGIN:VEVENT
SUMMARY:Mini routine Yoga matinal express sur Youtube !
DTSTART;TZID=Europe/Paris:20250415T103000
DTEND;TZID=Europe/Paris:20250415T110000
LOCATION:Savines le lac
DESCRIPTION: Découvrez une nouvelle routine de yoga express tous les vendredis matin à 10h30 sur notre chaîne Youtube ! Au programme : l&#039;apprentissage de 3 nouvelles postures + une petite routine de &gt;20 min pour energiser le corps et l&#039;esprit chaque semaine ! 
&gt;&gt;&gt; https://www.youtube.com/@lesyogabonds
STATUS:CONFIRMED
SEQUENCE:0
END:VEVENT
END:VCALENDAR