BEGIN:VCALENDAR
VERSION:2.0
CALSCALE:GREGORIAN
BEGIN:VEVENT
SUMMARY:Yoga &amp; coucher de soleil aux Restanques du lac, Savines-le lac
DTSTART;TZID=Europe/Paris:20250808T190000
DTEND;TZID=Europe/Paris:20250808T200500
LOCATION:Savines le lac
DESCRIPTION: 📆 Tous les lundis et vendredis, pratiquer dans un cadre exceptionnel de 19h à 20h15 au bord de la piscine, aux Restanques du lac à Savines-le lac.

🧘🏼‍♀️ Une pratique douce de fin de journée, colorée par les lumières du coucher de soleil, accessible, mêlant mouvements conscients, musiques douces et inspirantes, étirements doux, respirations, chants de mantras et partages bienveillants. 

🔎 Infos utiles : 
- Merci d’arriver 5-10 minutes avant le cours afin vous installer tranquillement
- Le cours débute à 19h

🧿 À prendre : 
- Son tapis de yoga
- Sa bouteille d’eau
- Pull, chaussettes ou petit plaid pour les shavasanas
- Vos jolies énergies

‼️ Toute séance annulée moins de 24h avant sera considérée comme due. Merci pour votre compréhension

✔️ La fenêtre de réservation en ligne ferme 1h avant le début du cours.

💶 Tarifs pour 1h15 de cours :
15€ l’unité 
120€ x 10 cours 
50€ cours en illimité sur 1 semaine
90€ cours en illimité sur 1 mois


📌 Réservation par message directement par WhatsApp : 0678276179

💶 Règlement : 
- Espèces avec l’APPOINT
En ligne sur Momoyoga
STATUS:CONFIRMED
SEQUENCE:0
END:VEVENT
END:VCALENDAR