BEGIN:VCALENDAR
VERSION:2.0
CALSCALE:GREGORIAN
BEGIN:VEVENT
SUMMARY:Yoga &amp; réveil énergétique sur la plage, Au Happy Day x Le Grand Large, Savines-le lac
DTSTART;TZID=Europe/Paris:20250806T080000
DTEND;TZID=Europe/Paris:20250806T090000
LOCATION:Savines le lac
DESCRIPTION: 📆 Tous les mardis, mercredis, jeudis et vendredis matins pratiquer dans un cadre exceptionnel de 8h à 9h au bord du Lac de Serre Ponçon dans un cadre enchanteur.

🧘🏼‍♀️ Une pratique énergétique de début de journée, colorée par les lumières du matin, accessible, mêlant mouvements conscients, flow intuitif de type Ashtanga ou vinyasa yoga, énergétique, un travail de respirations, des chants de mantras et des partages bienveillants. 

🔎 Infos utiles : 
- Merci d’arriver 5-10 minutes avant le cours afin vous installer tranquillement
- Le cours débute à 8h

🧿 À prendre : 
- Son tapis de yoga
- Sa bouteille d’eau
- Pull, chaussettes ou petit plaid pour les shavasanas
- Vos jolies énergies

‼️ Toute séance annulée moins de 24h avant sera considérée comme due. Merci pour votre compréhension

✔️ La fenêtre de réservation en ligne ferme 1h avant le début du cours.

💶 Tarifs pour 1h15 de cours :
15€ l’unité 
120€ x 10 cours 
50€ cours en illimité sur 1 semaine
90€ cours en illimité sur 1 mois


📌 Réservation par message directement par WhatsApp : 0678276179

💶 Règlement : 
- Espèces avec l’APPOINT
- En ligne sur Momoyoga
STATUS:CONFIRMED
SEQUENCE:0
END:VEVENT
END:VCALENDAR