BEGIN:VCALENDAR
VERSION:2.0
CALSCALE:GREGORIAN
BEGIN:VEVENT
SUMMARY:Pilates Intermédiaire- Agadir
DTSTART;TZID=Africa/Casablanca:20250630T123000
DTEND;TZID=Africa/Casablanca:20250630T133000
LOCATION:Le Studio Agadir
DESCRIPTION: Le pilates est une méthode d’entraînement physique qui s’inspire du yoga, de la danse et de la gymnastique. Elle se pratique au sol, sur un tapis, ou à l’aide d’appareils.
La méthode Pilates est principalement utilisée dans une perspective d’entraînement afin d’améliorer la force, la souplesse, la coordination et le maintien d’une bonne posture.

Selon les praticiens, pratiquée régulièrement et sur une assez longue période, elle agirait sur la santé globale des individus.
STATUS:CONFIRMED
SEQUENCE:0
END:VEVENT
END:VCALENDAR