BEGIN:VCALENDAR
VERSION:2.0
CALSCALE:GREGORIAN
BEGIN:VEVENT
SUMMARY:Potluck
DTSTART;TZID=Europe/Amsterdam:20240407T171500
DTEND;TZID=Europe/Amsterdam:20240407T191500
LOCATION:Cocoon Club
DESCRIPTION: Een gezellig samenzijn voor leden en niet-leden en hun naasten. Kinderen zijn ook welkom. Als je het leuk vindt om iets mee te nemen om te delen, dan eten we samen.
STATUS:CONFIRMED
SEQUENCE:0
END:VEVENT
END:VCALENDAR