BEGIN:VCALENDAR
VERSION:2.0
CALSCALE:GREGORIAN
BEGIN:VEVENT
SUMMARY:Vinyasa
DTSTART;TZID=Europe/Paris:20250709T183000
DTEND;TZID=Europe/Paris:20250709T193000
LOCATION:Octopus sport
DESCRIPTION: Tarifs : cours d&amp;#039;essai : 10€ (me contacter pour le paiement avant le cours), 1 cours : 15€, 5 cours (sur 3 mois) : 70€, 10 cours (sur 5 mois) : 130€
Tout cours non annulé 24h avant le début du cours est dû.
Yogabarre : Fusion entre le fitness, la barre du danseur et le yoga
STATUS:CONFIRMED
SEQUENCE:0
END:VEVENT
END:VCALENDAR