BEGIN:VCALENDAR
VERSION:2.0
CALSCALE:GREGORIAN
BEGIN:VEVENT
SUMMARY:All Levels YOGA - Online for 1/20
DTSTART;TZID=America/New_York:20230120T083000
DTEND;TZID=America/New_York:20230120T093000
LOCATION:Online
DESCRIPTION: All Levels Yoga – Fridays (ongoing), 8:30-9:30am
All Levels Welcome
Instructor:  Brianna Renner

This class is designed for any student looking to practice yoga. Movement will be linked with breath (as offered by the Hatha and Kripalu traditions of yoga), as well as focus on alignment, and attention paid to honoring your own organic movement. Students can expect to practice both seated and standing poses as well as focus on balance and breath.
STATUS:CONFIRMED
SEQUENCE:0
END:VEVENT
END:VCALENDAR