BEGIN:VCALENDAR
VERSION:2.0
CALSCALE:GREGORIAN
BEGIN:VEVENT
SUMMARY:Yin Yoga in de Tuintempel
DTSTART;TZID=Europe/Brussels:20250422T200000
DTEND;TZID=Europe/Brussels:20250422T211500
LOCATION:de Tuintempel Lier
DESCRIPTION: Bij deze yogastijl bepalen we eerst welke meridianen we extra aandacht willen geven opdat alles weer gaat stromen in ons lichaam. We werken op ons bindweefsel doordat we langere tijd (3 tot 7 minuten) in één bepaalde pose blijven liggen. Tijdens een yin yoga practice komen er 8 tot 10 houdingen aan bod en tussendoor laten we de houdingen even inwerken. Je neemt dus echt de tijd om te voelen, te ademen en te verstillen. Zowel op fysiek, mentaal als emotioneel vlak zal je veranderingen opmerken na een yin yogales.
STATUS:CONFIRMED
SEQUENCE:0
END:VEVENT
END:VCALENDAR