BEGIN:VCALENDAR
VERSION:2.0
CALSCALE:GREGORIAN
BEGIN:VEVENT
SUMMARY:Sanftes Hatha Yoga
DTSTART;TZID=Europe/Berlin:20250425T150000
DTEND;TZID=Europe/Berlin:20250425T163000
LOCATION:Yogastudio Sachsenhausener Str. 15, 16515 Oranienburg
DESCRIPTION: 
STATUS:CONFIRMED
SEQUENCE:0
END:VEVENT
END:VCALENDAR