BEGIN:VCALENDAR
VERSION:2.0
CALSCALE:GREGORIAN
BEGIN:VEVENT
SUMMARY:Easy &amp; gentle Yoga &quot;Better body&amp; mind: better life! &quot;
DTSTART;TZID=Europe/Brussels:20220626T104500
DTEND;TZID=Europe/Brussels:20220626T120000
LOCATION:Waasmunster, Vierhuizenstraat 54
DESCRIPTION: In deze ochtendles warmen we eerst rustig ons lichaam op. 
We gaan nu eens focussen op de ademhaling en de geest, dan weer extra op de body, soms eens heupen openen, werken op kracht en mobiliteit, dan weer gaan we dansen en springen..... Bereid je voor op variatie en happy vibes! 

Als arts zijnde, combineer ik mijn yogalessen steeds met aandacht voor de connectie met jezelf, je ademhaling en medische tips &amp;amp; tricks. 

Ik kijk er naar uit jullie LIVE te ont-moeten! 

Van harte dank voor jullie warme aanwezigheid! 
Ik ben alvast super blij dat je erbij bent ! 
Namasté.
STATUS:CONFIRMED
SEQUENCE:0
END:VEVENT
END:VCALENDAR