BEGIN:VCALENDAR
VERSION:2.0
CALSCALE:GREGORIAN
BEGIN:VEVENT
SUMMARY:Hatha Easy en Gentle yoga met JUTTA
DTSTART;TZID=Europe/Brussels:20220622T090000
DTEND;TZID=Europe/Brussels:20220622T101500
LOCATION:Vierhuizenstraat 54 te Waasmunster
DESCRIPTION: Better body, better mind.... better life! 

We focussen op stretchen, op ademhaling en op bewegen! 
Nu eens bewegen we ons zachter ( yin yoga) om tot rust te komen, dan weer met meer kracht of dans ( yang yoga) om meer energie op te wekken. 

The key is Chi ! 

Alles is energie en alles is verbonden!

We gaan voelen hoe we de energie kunnen opwekken via yoga. 

Are you in? 


Ik kijk er alvast naar uit jullie LIVE te ont-moeten! 
Namasté, 
Jutta


Notities

Als je klachten hebt, mag je die meedelen als we elkaar ont-moeten :-)

De lessen gaan door vanaf 6 ingeschreven yogi&#039;s. 
Check dus zeker altijd je mail ( ook spam ) zodat je zeker bent dat de les doorgaat.


Veel liefs! 
Jutta
STATUS:CONFIRMED
SEQUENCE:0
END:VEVENT
END:VCALENDAR