BEGIN:VCALENDAR
VERSION:2.0
CALSCALE:GREGORIAN
BEGIN:VEVENT
SUMMARY:On Line Coaching met dr Jutta Borms
DTSTART;TZID=Europe/Brussels:20220706T161500
DTEND;TZID=Europe/Brussels:20220706T170000
LOCATION:online
DESCRIPTION: 
STATUS:CONFIRMED
SEQUENCE:0
END:VEVENT
END:VCALENDAR