BEGIN:VCALENDAR
VERSION:2.0
CALSCALE:GREGORIAN
BEGIN:VEVENT
SUMMARY:Easy &amp; Gentle avondyoga met JUTTA : beter slapen :-)
DTSTART;TZID=Europe/Brussels:20221019T200000
DTEND;TZID=Europe/Brussels:20221019T211500
LOCATION:online
DESCRIPTION: Dit is steeds een rustige avond les. 
Het is de bedoeling dat we de stress van de dag van ons afschudden door te stretchen, te ademen en zachtjes ons lichaam te mobiliseren. 
Onze geest verstilt en we geraken meer en meer in een balans om beter te kunnen slapen. 

Namasté.
STATUS:CONFIRMED
SEQUENCE:0
END:VEVENT
END:VCALENDAR