BEGIN:VCALENDAR
VERSION:2.0
CALSCALE:GREGORIAN
BEGIN:VEVENT
SUMMARY:Hatha Easy &amp; Gentle ochtend yoga met JUTTA
DTSTART;TZID=Europe/Brussels:20230628T090000
DTEND;TZID=Europe/Brussels:20230628T101500
LOCATION:Gentstraat 31, Waasmunster
DESCRIPTION: Hoi ! 

Better body, better mind.... better life! 

We focussen op stretchen, op ademhaling en op bewegen! 
Nu eens bewegen we ons zachter ( yin yoga) om tot rust te komen, dan weer met meer kracht of dans ( yang yoga) om meer energie op te wekken. 

The key is Chi ! 

Alles is energie en alles is verbonden!

We gaan voelen hoe we de energie kunnen opwekken via yoga. 

Are you in? 


Ik kijk er alvast naar uit jullie LIVE te ont-moeten! 
Namasté, 
Jutta
STATUS:CONFIRMED
SEQUENCE:0
END:VEVENT
END:VCALENDAR