BEGIN:VCALENDAR
VERSION:2.0
CALSCALE:GREGORIAN
BEGIN:VEVENT
SUMMARY:On line medische coaching met dr Borms
DTSTART;TZID=Europe/Brussels:20221118T091500
DTEND;TZID=Europe/Brussels:20221118T102000
LOCATION:online
DESCRIPTION: 
STATUS:CONFIRMED
SEQUENCE:0
END:VEVENT
END:VCALENDAR