BEGIN:VCALENDAR
VERSION:2.0
CALSCALE:GREGORIAN
BEGIN:VEVENT
SUMMARY:Hatha Easy and Gentle yoga met JUTTA, medisch thema Maart is DETOX
DTSTART;TZID=Europe/Brussels:20230305T104500
DTEND;TZID=Europe/Brussels:20230305T120000
LOCATION:online
DESCRIPTION: Deze les is dezelfde als LIVE , 
De link krijg je een half uurtje voor aanvang in je mailbox. 
check zeker ook je spam.
STATUS:CONFIRMED
SEQUENCE:0
END:VEVENT
END:VCALENDAR