BEGIN:VCALENDAR
VERSION:2.0
CALSCALE:GREGORIAN
BEGIN:VEVENT
SUMMARY:yoga les prive met JUTTA
DTSTART;TZID=Europe/Brussels:20230320T101500
DTEND;TZID=Europe/Brussels:20230320T111500
LOCATION:waasmunster
DESCRIPTION: 
STATUS:CONFIRMED
SEQUENCE:0
END:VEVENT
END:VCALENDAR