BEGIN:VCALENDAR
VERSION:2.0
CALSCALE:GREGORIAN
BEGIN:VEVENT
SUMMARY:MIND-WALK
DTSTART;TZID=Europe/Amsterdam:20190831T093000
DTEND;TZID=Europe/Amsterdam:20190831T110000
LOCATION:Brunssumerheide  start bij de grote stoel voor het restaurant
DESCRIPTION: Mind-walk is &quot;bewust&quot; wandelen met invloeden vanuit yoga, tai chi en meditatie. Locatie bezoekers centrum schrieversheide kosten 15 euro incl.thee of koffie.
STATUS:CONFIRMED
SEQUENCE:0
END:VEVENT
END:VCALENDAR