BEGIN:VCALENDAR
VERSION:2.0
CALSCALE:GREGORIAN
BEGIN:VEVENT
SUMMARY:ONLINE YOGA - 6.45pm
DTSTART;TZID=Europe/London:20230614T184500
DTEND;TZID=Europe/London:20230614T194500
LOCATION:Glasgow
DESCRIPTION: Streamed live via Zoom from the studio in Bishopbriggs!!! 

*CHOOSE THE 5PM CLASS PASS TO BOOK - it&#039;s all the same price!*

Let&#039;s see how this works... the later time may be better for some and not so much for others! We are back in the studio at New Dawn. 

Book THIS OPTION for a Zoom link, as usual. Book the OTHER option should you wish to attend in person! 

I have included a 2+ participants option, but that&#039;s at your discretion!

*Please note I operate a 12 hour cancellation policy on all classes and sessions*
STATUS:CONFIRMED
SEQUENCE:0
END:VEVENT
END:VCALENDAR