BEGIN:VCALENDAR
VERSION:2.0
CALSCALE:GREGORIAN
BEGIN:VEVENT
SUMMARY:MiniCamp!
DTSTART;TZID=Europe/London:20230521T230000
DTEND;TZID=Europe/London:20230521T233000
LOCATION:My hoose!
DESCRIPTION: Whilst I&#039;m away on holiday, I&#039;ll be sending you back 15-minute long videos for you to sink your teeth into and keep your fitness up!
STATUS:CONFIRMED
SEQUENCE:0
END:VEVENT
END:VCALENDAR