BEGIN:VCALENDAR
VERSION:2.0
CALSCALE:GREGORIAN
BEGIN:VEVENT
SUMMARY:Restorative Flow &amp; Nidra | Kaye
DTSTART;TZID=Asia/Manila:20251112T160000
DTEND;TZID=Asia/Manila:20251112T170000
LOCATION:Little Shell Yoga Shala, Malinao
DESCRIPTION: Restorative Yoga is a movement practice which places a focus on slowness, relaxation and compassion for the body. This allows us the space to explore what happens when we give ourselves the time and space to breathe. This offering ends with a short yoga nidra meditation for total mind-body relaxation.

This is an accessible yoga practice supported by props which can be adapted to include practitioners of different abilities and experience level.

Benefits : Deep body &amp; mind relaxation, feeling of being nurtured &amp; cared for
STATUS:CONFIRMED
SEQUENCE:0
END:VEVENT
END:VCALENDAR