BEGIN:VCALENDAR
VERSION:2.0
CALSCALE:GREGORIAN
BEGIN:VEVENT
SUMMARY:Restorative Yoga &amp; Nidra | Kaye
DTSTART;TZID=Asia/Manila:20260304T180000
DTEND;TZID=Asia/Manila:20260304T190000
LOCATION:Little Shell Yoga Shala, Malinao
DESCRIPTION: Join Kaye for this offering which unites dynamic, flowing movement, grounding breath and leads into the stillness of restful poses. Class ends with a nourishing led yoga nidra meditation.

Open to all levels and suitable for beginners.
STATUS:CONFIRMED
SEQUENCE:0
END:VEVENT
END:VCALENDAR