BEGIN:VCALENDAR
VERSION:2.0
CALSCALE:GREGORIAN
BEGIN:VEVENT
SUMMARY:Yin &amp; Mantras | Beng
DTSTART;TZID=Asia/Manila:20250517T160000
DTEND;TZID=Asia/Manila:20250517T170000
LOCATION:Little Shell Yoga Shala, Malinao
DESCRIPTION: Yin Yoga is a movement practice which places a focus on slowness, relaxation and compassion for the body. Beng will also be weaving in her beautiful mantra singing within the session. 

Come join us as we gently move through yoga asanas that support our long term mobility as well as recovery from intense activities.

This is an accessible yoga practice supported by props which can be adapted to include practitioners of different abilities and experience level.
STATUS:CONFIRMED
SEQUENCE:0
END:VEVENT
END:VCALENDAR